Package: ChIPsim Version: 1.61.0 Command: /home/biocbuild/bbs-3.21-bioc/R/bin/R CMD check --install=check:ChIPsim.install-out.txt --library=/home/biocbuild/bbs-3.21-bioc/R/site-library --timings ChIPsim_1.61.0.tar.gz StartedAt: 2025-02-09 20:54:03 -0500 (Sun, 09 Feb 2025) EndedAt: 2025-02-09 20:58:14 -0500 (Sun, 09 Feb 2025) EllapsedTime: 251.3 seconds RetCode: 0 Status: OK CheckDir: ChIPsim.Rcheck Warnings: 0