Package: ChIPsim Version: 1.61.0 Command: /home/biocbuild/bbs-3.21-bioc/R/bin/R CMD INSTALL ChIPsim StartedAt: 2025-02-12 15:50:52 -0500 (Wed, 12 Feb 2025) EndedAt: 2025-02-12 15:51:23 -0500 (Wed, 12 Feb 2025) EllapsedTime: 30.7 seconds RetCode: 0 Status: OK