Package: ChemmineR Version: 3.59.0 Command: rm -rf ChemmineR.buildbin-libdir && mkdir ChemmineR.buildbin-libdir && /Users/biocbuild/BBS/utils/build-universal.sh ChemmineR_3.59.0.tar.gz /Library/Frameworks/R.framework/Resources/bin/R ChemmineR.buildbin-libdir StartedAt: 2025-02-12 22:14:05 -0500 (Wed, 12 Feb 2025) EndedAt: 2025-02-12 22:14:16 -0500 (Wed, 12 Feb 2025) EllapsedTime: 11.2 seconds RetCode: 0 Status: OK PackageFile: ChemmineR_3.59.0.tgz PackageFileSize: 2.623 MiB