Package: ChemmineR Version: 3.59.0 Command: /home/biocbuild/R/R/bin/R CMD build --keep-empty-dirs --no-resave-data ChemmineR StartedAt: 2025-01-28 21:45:25 -0000 (Tue, 28 Jan 2025) EndedAt: 2025-01-28 21:46:51 -0000 (Tue, 28 Jan 2025) EllapsedTime: 86.0 seconds RetCode: 0 Status: OK PackageFile: ChemmineR_3.59.0.tar.gz PackageFileSize: 1.642 MiB