Package: ChemmineR Version: 3.59.0 Command: /Library/Frameworks/R.framework/Resources/bin/R CMD INSTALL ChemmineR StartedAt: 2025-02-09 15:39:22 -0500 (Sun, 09 Feb 2025) EndedAt: 2025-02-09 15:39:57 -0500 (Sun, 09 Feb 2025) EllapsedTime: 34.5 seconds RetCode: 0 Status: OK