Package: ChemmineR Version: 3.59.0 Command: /home/biocbuild/bbs-3.21-bioc/R/bin/R CMD check --install=check:ChemmineR.install-out.txt --library=/home/biocbuild/bbs-3.21-bioc/R/site-library --timings ChemmineR_3.59.0.tar.gz StartedAt: 2025-02-09 20:51:51 -0500 (Sun, 09 Feb 2025) EndedAt: 2025-02-09 20:54:03 -0500 (Sun, 09 Feb 2025) EllapsedTime: 132.2 seconds RetCode: 0 Status: WARNINGS CheckDir: ChemmineR.Rcheck Warnings: 1