Package: ChemmineR Version: 3.59.0 Command: chmod a+r ChemmineR -R && E:\biocbuild\bbs-3.21-bioc\R\bin\R.exe CMD build --keep-empty-dirs --no-resave-data ChemmineR StartedAt: 2025-02-12 17:50:29 -0500 (Wed, 12 Feb 2025) EndedAt: 2025-02-12 17:52:40 -0500 (Wed, 12 Feb 2025) EllapsedTime: 130.4 seconds RetCode: 0 Status: OK PackageFile: ChemmineR_3.59.0.tar.gz PackageFileSize: 1.579 MiB