Package: ChemmineR Version: 3.59.0 Command: E:\biocbuild\bbs-3.21-bioc\R\bin\R.exe CMD INSTALL ChemmineR StartedAt: 2025-02-09 16:03:56 -0500 (Sun, 09 Feb 2025) EndedAt: 2025-02-09 16:06:16 -0500 (Sun, 09 Feb 2025) EllapsedTime: 140.3 seconds RetCode: 0 Status: OK