Package: Chicago Version: 1.35.0 Command: /Library/Frameworks/R.framework/Resources/bin/R CMD build --keep-empty-dirs --no-resave-data Chicago StartedAt: 2025-02-12 15:52:15 -0500 (Wed, 12 Feb 2025) EndedAt: 2025-02-12 15:52:46 -0500 (Wed, 12 Feb 2025) EllapsedTime: 31.3 seconds RetCode: 0 Status: OK PackageFile: Chicago_1.35.0.tar.gz PackageFileSize: 1.21 MiB