Package: Chicago Version: 1.35.0 Command: /home/biocbuild/R/R/bin/R CMD build --keep-empty-dirs --no-resave-data Chicago StartedAt: 2025-01-28 21:46:11 -0000 (Tue, 28 Jan 2025) EndedAt: 2025-01-28 21:48:20 -0000 (Tue, 28 Jan 2025) EllapsedTime: 129.0 seconds RetCode: 0 Status: OK PackageFile: Chicago_1.35.0.tar.gz PackageFileSize: 946.5 KiB