Package: Chicago Version: 1.35.0 Command: /Library/Frameworks/R.framework/Resources/bin/R CMD check --install=check:Chicago.install-out.txt --library=/Library/Frameworks/R.framework/Resources/library --no-vignettes --timings Chicago_1.35.0.tar.gz StartedAt: 2025-02-12 19:31:16 -0500 (Wed, 12 Feb 2025) EndedAt: 2025-02-12 19:33:13 -0500 (Wed, 12 Feb 2025) EllapsedTime: 117.1 seconds RetCode: 0 Status: OK CheckDir: Chicago.Rcheck Warnings: 0