Package: Chicago Version: 1.35.0 Command: /home/biocbuild/bbs-3.21-bioc/R/bin/R CMD build --keep-empty-dirs --no-resave-data Chicago StartedAt: 2025-02-12 16:33:42 -0500 (Wed, 12 Feb 2025) EndedAt: 2025-02-12 16:34:58 -0500 (Wed, 12 Feb 2025) EllapsedTime: 76.2 seconds RetCode: 0 Status: OK PackageFile: Chicago_1.35.0.tar.gz PackageFileSize: 1.248 MiB