Package: Chicago Version: 1.35.0 Command: /home/biocbuild/bbs-3.21-bioc/R/bin/R CMD check --install=check:Chicago.install-out.txt --library=/home/biocbuild/bbs-3.21-bioc/R/site-library --timings Chicago_1.35.0.tar.gz StartedAt: 2025-02-12 20:48:46 -0500 (Wed, 12 Feb 2025) EndedAt: 2025-02-12 20:51:36 -0500 (Wed, 12 Feb 2025) EllapsedTime: 170.3 seconds RetCode: 0 Status: OK CheckDir: Chicago.Rcheck Warnings: 0