Package: Chicago Version: 1.35.0 Command: rm -rf Chicago.buildbin-libdir && mkdir Chicago.buildbin-libdir && E:\biocbuild\bbs-3.21-bioc\R\bin\R.exe CMD INSTALL --build --library=Chicago.buildbin-libdir Chicago_1.35.0.tar.gz StartedAt: 2025-02-10 07:25:54 -0500 (Mon, 10 Feb 2025) EndedAt: 2025-02-10 07:26:33 -0500 (Mon, 10 Feb 2025) EllapsedTime: 39.1 seconds RetCode: 0 Status: OK PackageFile: Chicago_1.35.0.zip PackageFileSize: 1.024 MiB