Package: Chicago Version: 1.35.0 Command: chmod a+r Chicago -R && E:\biocbuild\bbs-3.21-bioc\R\bin\R.exe CMD build --keep-empty-dirs --no-resave-data Chicago StartedAt: 2025-02-09 17:48:09 -0500 (Sun, 09 Feb 2025) EndedAt: 2025-02-09 17:50:07 -0500 (Sun, 09 Feb 2025) EllapsedTime: 118.0 seconds RetCode: 0 Status: OK PackageFile: Chicago_1.35.0.tar.gz PackageFileSize: 785.5 KiB