Package: Chicago Version: 1.35.0 Command: E:\biocbuild\bbs-3.21-bioc\R\bin\R.exe CMD check --no-multiarch --install=check:Chicago.install-out.txt --library=E:\biocbuild\bbs-3.21-bioc\R\library --no-vignettes --timings Chicago_1.35.0.tar.gz StartedAt: 2025-02-09 23:33:59 -0500 (Sun, 09 Feb 2025) EndedAt: 2025-02-09 23:36:01 -0500 (Sun, 09 Feb 2025) EllapsedTime: 122.5 seconds RetCode: 0 Status: OK CheckDir: Chicago.Rcheck Warnings: 0