Package: Chicago Version: 1.35.0 Command: E:\biocbuild\bbs-3.21-bioc\R\bin\R.exe CMD INSTALL Chicago StartedAt: 2025-02-09 15:43:31 -0500 (Sun, 09 Feb 2025) EndedAt: 2025-02-09 15:44:02 -0500 (Sun, 09 Feb 2025) EllapsedTime: 30.8 seconds RetCode: 0 Status: OK