Package: ChromHeatMap Version: 1.61.0 Command: rm -rf ChromHeatMap.buildbin-libdir && mkdir ChromHeatMap.buildbin-libdir && /Users/biocbuild/BBS/utils/build-universal.sh ChromHeatMap_1.61.0.tar.gz /Library/Frameworks/R.framework/Resources/bin/R ChromHeatMap.buildbin-libdir StartedAt: 2025-02-10 00:46:25 -0500 (Mon, 10 Feb 2025) EndedAt: 2025-02-10 00:47:14 -0500 (Mon, 10 Feb 2025) EllapsedTime: 49.5 seconds RetCode: 0 Status: OK PackageFile: ChromHeatMap_1.61.0.tgz PackageFileSize: 674.4 KiB