Package: ChromHeatMap Version: 1.61.0 Command: /Library/Frameworks/R.framework/Resources/bin/R CMD check --install=check:ChromHeatMap.install-out.txt --library=/Library/Frameworks/R.framework/Resources/library --no-vignettes --timings ChromHeatMap_1.61.0.tar.gz StartedAt: 2025-02-09 19:44:21 -0500 (Sun, 09 Feb 2025) EndedAt: 2025-02-09 19:48:51 -0500 (Sun, 09 Feb 2025) EllapsedTime: 269.7 seconds RetCode: 0 Status: OK CheckDir: ChromHeatMap.Rcheck Warnings: 0