Package: ChromHeatMap Version: 1.61.0 Command: /home/biocbuild/bbs-3.21-bioc/R/bin/R CMD build --keep-empty-dirs --no-resave-data ChromHeatMap StartedAt: 2025-02-09 16:38:44 -0500 (Sun, 09 Feb 2025) EndedAt: 2025-02-09 16:39:36 -0500 (Sun, 09 Feb 2025) EllapsedTime: 51.0 seconds RetCode: 0 Status: OK PackageFile: ChromHeatMap_1.61.0.tar.gz PackageFileSize: 317.8 KiB