Package: ChromHeatMap Version: 1.61.0 Command: E:\biocbuild\bbs-3.21-bioc\R\bin\R.exe CMD check --no-multiarch --install=check:ChromHeatMap.install-out.txt --library=E:\biocbuild\bbs-3.21-bioc\R\library --no-vignettes --timings ChromHeatMap_1.61.0.tar.gz StartedAt: 2025-02-12 23:45:47 -0500 (Wed, 12 Feb 2025) EndedAt: 2025-02-12 23:51:31 -0500 (Wed, 12 Feb 2025) EllapsedTime: 344.1 seconds RetCode: 0 Status: OK CheckDir: ChromHeatMap.Rcheck Warnings: 0