Package: ChromSCape Version: 1.17.0 Command: /Library/Frameworks/R.framework/Resources/bin/R CMD build --keep-empty-dirs --no-resave-data ChromSCape StartedAt: 2025-02-09 15:53:54 -0500 (Sun, 09 Feb 2025) EndedAt: 2025-02-09 15:54:21 -0500 (Sun, 09 Feb 2025) EllapsedTime: 27.3 seconds RetCode: 0 Status: OK PackageFile: ChromSCape_1.17.0.tar.gz PackageFileSize: 5.304 MiB