Package: ChromSCape Version: 1.17.0 Command: /Library/Frameworks/R.framework/Resources/bin/R CMD INSTALL ChromSCape StartedAt: 2025-02-09 15:29:29 -0500 (Sun, 09 Feb 2025) EndedAt: 2025-02-09 15:29:48 -0500 (Sun, 09 Feb 2025) EllapsedTime: 19.5 seconds RetCode: 0 Status: OK