Package: ChromSCape Version: 1.17.0 Command: rm -rf ChromSCape.buildbin-libdir && mkdir ChromSCape.buildbin-libdir && /Users/biocbuild/BBS/utils/build-universal.sh ChromSCape_1.17.0.tar.gz /Library/Frameworks/R.framework/Resources/bin/R ChromSCape.buildbin-libdir StartedAt: 2025-02-05 00:32:58 -0500 (Wed, 05 Feb 2025) EndedAt: 2025-02-05 00:34:12 -0500 (Wed, 05 Feb 2025) EllapsedTime: 73.8 seconds RetCode: 0 Status: OK PackageFile: ChromSCape_1.17.0.tgz PackageFileSize: 5.797 MiB