Package: ChromSCape Version: 1.17.0 Command: /Library/Frameworks/R.framework/Resources/bin/R CMD check --install=check:ChromSCape.install-out.txt --library=/Library/Frameworks/R.framework/Resources/library --no-vignettes --timings ChromSCape_1.17.0.tar.gz StartedAt: 2025-02-04 19:33:08 -0500 (Tue, 04 Feb 2025) EndedAt: 2025-02-04 19:46:56 -0500 (Tue, 04 Feb 2025) EllapsedTime: 828.3 seconds RetCode: 0 Status: WARNINGS CheckDir: ChromSCape.Rcheck Warnings: 3