Package: ChromSCape Version: 1.17.0 Command: /Library/Frameworks/R.framework/Resources/bin/R CMD INSTALL ChromSCape StartedAt: 2025-02-04 15:44:24 -0500 (Tue, 04 Feb 2025) EndedAt: 2025-02-04 15:45:24 -0500 (Tue, 04 Feb 2025) EllapsedTime: 59.5 seconds RetCode: 0 Status: OK