Package: ChromSCape Version: 1.17.0 Command: /home/biocbuild/bbs-3.21-bioc/R/bin/R CMD build --keep-empty-dirs --no-resave-data ChromSCape StartedAt: 2025-02-09 16:39:04 -0500 (Sun, 09 Feb 2025) EndedAt: 2025-02-09 16:40:15 -0500 (Sun, 09 Feb 2025) EllapsedTime: 70.1 seconds RetCode: 0 Status: OK PackageFile: ChromSCape_1.17.0.tar.gz PackageFileSize: 5.303 MiB