Package: ChromSCape Version: 1.17.0 Command: rm -rf ChromSCape.buildbin-libdir && mkdir ChromSCape.buildbin-libdir && E:\biocbuild\bbs-3.21-bioc\R\bin\R.exe CMD INSTALL --build --library=ChromSCape.buildbin-libdir ChromSCape_1.17.0.tar.gz StartedAt: 2025-02-05 07:38:48 -0500 (Wed, 05 Feb 2025) EndedAt: 2025-02-05 07:40:44 -0500 (Wed, 05 Feb 2025) EllapsedTime: 115.9 seconds RetCode: 0 Status: OK PackageFile: ChromSCape_1.17.0.zip PackageFileSize: 6.111 MiB