Package: ChromSCape Version: 1.17.0 Command: E:\biocbuild\bbs-3.21-bioc\R\bin\R.exe CMD check --no-multiarch --install=check:ChromSCape.install-out.txt --library=E:\biocbuild\bbs-3.21-bioc\R\library --no-vignettes --timings ChromSCape_1.17.0.tar.gz StartedAt: 2025-02-09 23:37:16 -0500 (Sun, 09 Feb 2025) EndedAt: 2025-02-09 23:53:59 -0500 (Sun, 09 Feb 2025) EllapsedTime: 1003.3 seconds RetCode: 0 Status: WARNINGS CheckDir: ChromSCape.Rcheck Warnings: 3