Package: CircSeqAlignTk Version: 1.9.0 Command: chmod a+r CircSeqAlignTk -R && E:\biocbuild\bbs-3.21-bioc\R\bin\R.exe CMD build --keep-empty-dirs --no-resave-data CircSeqAlignTk StartedAt: 2025-02-09 17:51:46 -0500 (Sun, 09 Feb 2025) EndedAt: 2025-02-09 17:54:23 -0500 (Sun, 09 Feb 2025) EllapsedTime: 157.0 seconds RetCode: 0 Status: OK PackageFile: CircSeqAlignTk_1.9.0.tar.gz PackageFileSize: 1.563 MiB