Package: CircSeqAlignTk Version: 1.9.0 Command: E:\biocbuild\bbs-3.21-bioc\R\bin\R.exe CMD check --no-multiarch --install=check:CircSeqAlignTk.install-out.txt --library=E:\biocbuild\bbs-3.21-bioc\R\library --no-vignettes --timings CircSeqAlignTk_1.9.0.tar.gz StartedAt: 2025-02-09 23:39:02 -0500 (Sun, 09 Feb 2025) EndedAt: 2025-02-09 23:45:22 -0500 (Sun, 09 Feb 2025) EllapsedTime: 380.0 seconds RetCode: 1 Status: ERROR CheckDir: CircSeqAlignTk.Rcheck Warnings: NA