Package: ClustAll Version: 1.3.0 Command: /Library/Frameworks/R.framework/Resources/bin/R CMD build --keep-empty-dirs --no-resave-data ClustAll StartedAt: 2025-02-09 15:55:19 -0500 (Sun, 09 Feb 2025) EndedAt: 2025-02-09 15:57:04 -0500 (Sun, 09 Feb 2025) EllapsedTime: 105.3 seconds RetCode: 0 Status: OK PackageFile: ClustAll_1.3.0.tar.gz PackageFileSize: 2.95 MiB