Package: ClustAll Version: 1.3.0 Command: /Library/Frameworks/R.framework/Resources/bin/R CMD check --install=check:ClustAll.install-out.txt --library=/Library/Frameworks/R.framework/Resources/library --no-vignettes --timings ClustAll_1.3.0.tar.gz StartedAt: 2025-02-09 18:34:03 -0500 (Sun, 09 Feb 2025) EndedAt: 2025-02-09 18:35:24 -0500 (Sun, 09 Feb 2025) EllapsedTime: 81.0 seconds RetCode: 0 Status: OK CheckDir: ClustAll.Rcheck Warnings: 0