Package: ClustAll Version: 1.3.0 Command: /Library/Frameworks/R.framework/Resources/bin/R CMD INSTALL ClustAll StartedAt: 2025-02-10 15:24:04 -0500 (Mon, 10 Feb 2025) EndedAt: 2025-02-10 15:24:13 -0500 (Mon, 10 Feb 2025) EllapsedTime: 9.2 seconds RetCode: 0 Status: OK