Package: ClustAll Version: 1.3.0 Command: /home/biocbuild/bbs-3.21-bioc/R/bin/R CMD build --keep-empty-dirs --no-resave-data ClustAll StartedAt: 2025-02-09 16:41:23 -0500 (Sun, 09 Feb 2025) EndedAt: 2025-02-09 16:45:36 -0500 (Sun, 09 Feb 2025) EllapsedTime: 253.3 seconds RetCode: 0 Status: OK PackageFile: ClustAll_1.3.0.tar.gz PackageFileSize: 2.947 MiB