Package: ClustAll Version: 1.3.0 Command: /home/biocbuild/bbs-3.21-bioc/R/bin/R CMD check --install=check:ClustAll.install-out.txt --library=/home/biocbuild/bbs-3.21-bioc/R/site-library --timings ClustAll_1.3.0.tar.gz StartedAt: 2025-02-12 20:57:05 -0500 (Wed, 12 Feb 2025) EndedAt: 2025-02-12 21:04:17 -0500 (Wed, 12 Feb 2025) EllapsedTime: 431.7 seconds RetCode: 0 Status: OK CheckDir: ClustAll.Rcheck Warnings: 0