Package: ClustAll Version: 1.3.0 Command: /home/biocbuild/bbs-3.21-bioc/R/bin/R CMD INSTALL ClustAll StartedAt: 2025-02-12 15:59:24 -0500 (Wed, 12 Feb 2025) EndedAt: 2025-02-12 15:59:47 -0500 (Wed, 12 Feb 2025) EllapsedTime: 22.4 seconds RetCode: 0 Status: OK