Package: ClustIRR Version: 1.5.39 Command: rm -rf ClustIRR.buildbin-libdir && mkdir ClustIRR.buildbin-libdir && /Users/biocbuild/BBS/utils/build-universal.sh ClustIRR_1.5.39.tar.gz /Library/Frameworks/R.framework/Resources/bin/R ClustIRR.buildbin-libdir StartedAt: 2025-02-09 22:09:48 -0500 (Sun, 09 Feb 2025) EndedAt: 2025-02-09 22:10:44 -0500 (Sun, 09 Feb 2025) EllapsedTime: 55.2 seconds RetCode: 0 Status: OK PackageFile: ClustIRR_1.5.39.tgz PackageFileSize: 4.145 MiB