Package: ClustIRR Version: 1.5.39 Command: /Library/Frameworks/R.framework/Resources/bin/R CMD build --keep-empty-dirs --no-resave-data ClustIRR StartedAt: 2025-02-09 15:55:49 -0500 (Sun, 09 Feb 2025) EndedAt: 2025-02-09 15:57:42 -0500 (Sun, 09 Feb 2025) EllapsedTime: 113.3 seconds RetCode: 0 Status: OK PackageFile: ClustIRR_1.5.39.tar.gz PackageFileSize: 3.223 MiB