Package: ClustIRR Version: 1.5.39 Command: /home/biocbuild/bbs-3.21-bioc/R/bin/R CMD build --keep-empty-dirs --no-resave-data ClustIRR StartedAt: 2025-02-04 16:39:39 -0500 (Tue, 04 Feb 2025) EndedAt: 2025-02-04 16:45:46 -0500 (Tue, 04 Feb 2025) EllapsedTime: 367.4 seconds RetCode: 0 Status: OK PackageFile: ClustIRR_1.5.39.tar.gz PackageFileSize: 3.493 MiB