Package: ClustIRR Version: 1.5.39 Command: /home/biocbuild/bbs-3.21-bioc/R/bin/R CMD check --install=check:ClustIRR.install-out.txt --library=/home/biocbuild/bbs-3.21-bioc/R/site-library --timings ClustIRR_1.5.39.tar.gz StartedAt: 2025-02-09 21:02:23 -0500 (Sun, 09 Feb 2025) EndedAt: 2025-02-09 21:14:33 -0500 (Sun, 09 Feb 2025) EllapsedTime: 730.1 seconds RetCode: 0 Status: OK CheckDir: ClustIRR.Rcheck Warnings: 0