Package: ClustIRR Version: 1.5.39 Command: /home/biocbuild/bbs-3.21-bioc/R/bin/R CMD INSTALL ClustIRR StartedAt: 2025-02-04 15:07:31 -0500 (Tue, 04 Feb 2025) EndedAt: 2025-02-04 15:10:58 -0500 (Tue, 04 Feb 2025) EllapsedTime: 207.1 seconds RetCode: 0 Status: OK