Package: ClustIRR Version: 1.5.39 Command: rm -rf ClustIRR.buildbin-libdir && mkdir ClustIRR.buildbin-libdir && E:\biocbuild\bbs-3.21-bioc\R\bin\R.exe CMD INSTALL --build --library=ClustIRR.buildbin-libdir ClustIRR_1.5.39.tar.gz StartedAt: 2025-02-10 07:29:03 -0500 (Mon, 10 Feb 2025) EndedAt: 2025-02-10 07:34:23 -0500 (Mon, 10 Feb 2025) EllapsedTime: 320.2 seconds RetCode: 0 Status: OK PackageFile: ClustIRR_1.5.39.zip PackageFileSize: 3.618 MiB