Package: ClustIRR Version: 1.5.39 Command: chmod a+r ClustIRR -R && E:\biocbuild\bbs-3.21-bioc\R\bin\R.exe CMD build --keep-empty-dirs --no-resave-data ClustIRR StartedAt: 2025-02-09 17:55:50 -0500 (Sun, 09 Feb 2025) EndedAt: 2025-02-09 18:06:09 -0500 (Sun, 09 Feb 2025) EllapsedTime: 618.2 seconds RetCode: 0 Status: OK PackageFile: ClustIRR_1.5.39.tar.gz PackageFileSize: 2.443 MiB