Package: ClustIRR Version: 1.5.39 Command: E:\biocbuild\bbs-3.21-bioc\R\bin\R.exe CMD check --no-multiarch --install=check:ClustIRR.install-out.txt --library=E:\biocbuild\bbs-3.21-bioc\R\library --no-vignettes --timings ClustIRR_1.5.39.tar.gz StartedAt: 2025-02-09 23:45:27 -0500 (Sun, 09 Feb 2025) EndedAt: 2025-02-10 00:00:10 -0500 (Mon, 10 Feb 2025) EllapsedTime: 883.0 seconds RetCode: 0 Status: OK CheckDir: ClustIRR.Rcheck Warnings: 0