Package: ClustIRR Version: 1.5.39 Command: E:\biocbuild\bbs-3.21-bioc\R\bin\R.exe CMD INSTALL ClustIRR StartedAt: 2025-02-12 15:35:49 -0500 (Wed, 12 Feb 2025) EndedAt: 2025-02-12 15:42:26 -0500 (Wed, 12 Feb 2025) EllapsedTime: 396.5 seconds RetCode: 0 Status: OK