Package: ClusterFoldSimilarity Version: 1.3.0 Command: rm -rf ClusterFoldSimilarity.buildbin-libdir && mkdir ClusterFoldSimilarity.buildbin-libdir && /Users/biocbuild/BBS/utils/build-universal.sh ClusterFoldSimilarity_1.3.0.tar.gz /Library/Frameworks/R.framework/Resources/bin/R ClusterFoldSimilarity.buildbin-libdir StartedAt: 2025-02-09 22:09:44 -0500 (Sun, 09 Feb 2025) EndedAt: 2025-02-09 22:10:00 -0500 (Sun, 09 Feb 2025) EllapsedTime: 15.3 seconds RetCode: 0 Status: OK PackageFile: ClusterFoldSimilarity_1.3.0.tgz PackageFileSize: 1.704 MiB