Package: ClusterFoldSimilarity Version: 1.3.0 Command: chmod a+r ClusterFoldSimilarity -R && E:\biocbuild\bbs-3.21-bioc\R\bin\R.exe CMD build --keep-empty-dirs --no-resave-data ClusterFoldSimilarity StartedAt: 2025-02-12 17:57:49 -0500 (Wed, 12 Feb 2025) EndedAt: 2025-02-12 18:10:21 -0500 (Wed, 12 Feb 2025) EllapsedTime: 752.5 seconds RetCode: 0 Status: OK PackageFile: ClusterFoldSimilarity_1.3.0.tar.gz PackageFileSize: 861.4 KiB