Package: ClusterJudge Version: 1.29.1 Command: rm -rf ClusterJudge.buildbin-libdir && mkdir ClusterJudge.buildbin-libdir && /Users/biocbuild/BBS/utils/build-universal.sh ClusterJudge_1.29.1.tar.gz /Library/Frameworks/R.framework/Resources/bin/R ClusterJudge.buildbin-libdir StartedAt: 2025-02-12 22:14:54 -0500 (Wed, 12 Feb 2025) EndedAt: 2025-02-12 22:14:57 -0500 (Wed, 12 Feb 2025) EllapsedTime: 3.1 seconds RetCode: 0 Status: OK PackageFile: ClusterJudge_1.29.1.tgz PackageFileSize: 4.395 MiB