Package: ClusterJudge Version: 1.29.1 Command: /home/biocbuild/bbs-3.21-bioc/R/bin/R CMD build --keep-empty-dirs --no-resave-data ClusterJudge StartedAt: 2025-02-12 16:38:25 -0500 (Wed, 12 Feb 2025) EndedAt: 2025-02-12 16:39:10 -0500 (Wed, 12 Feb 2025) EllapsedTime: 45.0 seconds RetCode: 0 Status: OK PackageFile: ClusterJudge_1.29.1.tar.gz PackageFileSize: 940.8 KiB